BEGIN:VCALENDAR
VERSION:2.0
PRODID:-//wp-events-plugin.com//7.2.3.1//EN
TZID:Europe/Berlin
X-WR-TIMEZONE:Europe/Berlin
BEGIN:VEVENT
UID:1424@eiszeitmuseum.de
DTSTART;TZID=Europe/Berlin:20260508T170000
DTEND;TZID=Europe/Berlin:20260508T190000
DTSTAMP:20260418T101323Z
URL:https://eiszeitmuseum.de/termin/schaetze-der-eiszeit-treffen-fuer-foss
 ilien-und-geschiebesammler/
SUMMARY:Schätze der Eiszeit - Treffen für Fossilien- und Geschiebesammler
DESCRIPTION:Teffen für alle\, die sich für Geschiebe und Fossilien intere
 ssieren!
ATTACH;FMTTYPE=image/jpeg:https://eiszeitmuseum.de/wp-content/uploads/2017
 /07/Geröllstrand-EZM-370-e1613566910670.jpg
END:VEVENT
BEGIN:VTIMEZONE
TZID:Europe/Berlin
X-LIC-LOCATION:Europe/Berlin
BEGIN:DAYLIGHT
DTSTART:20260329T030000
TZOFFSETFROM:+0100
TZOFFSETTO:+0200
TZNAME:CEST
END:DAYLIGHT
END:VTIMEZONE
END:VCALENDAR